BEGIN:VCALENDAR
PRODID:Solar Promotion International GmbH
CALSCALE:GREGORIAN
BEGIN:VEVENT
DTSTAMP:20260419T202735Z
DTSTART:20260903T154000
DTEND:20260903T164000
SUMMARY:Youth & Women in Solar: Empowering New Talent and Inclusive Leadership in Clean Energy
TZID:Europe/Berlin
LAST-MODIFIED:20260417T072317Z
DESCRIPTION:Celebrate the rising role of youth and women in shaping the solar industry's future. This session highlights inspiring stories\, leadership pathways\, and capacity-building initiatives that foster diversity\, drive innovation\, and create equitable opportunities across the global clean energy workforce.
SEQUENCE:1776630455
URL:https://www.intersolar.ae/conference-program/youth-women-in-solar-empowering-new-talent-and-inclusive-leadership-in-clean-energy
LOCATION:Intersolar Middle East Conference Program\, Dubai World Trade Centre Conference Area: Pavilion Hall\; Booth #: P.G40
UID:6bf7c257-e6b0-4f6f-b5ad-449d5a2b2cb1
END:VEVENT
END:VCALENDAR
