BEGIN:VCALENDAR
PRODID:Solar Promotion International GmbH
CALSCALE:GREGORIAN
BEGIN:VEVENT
DTSTAMP:20260419T202746Z
DTSTART:20260903T140000
DTEND:20260903T152500
SUMMARY:Circular Economy in Solar: Recycling PV Panels\, Battery Repurposing & ESG
TZID:Europe/Berlin
LAST-MODIFIED:20260417T072316Z
DESCRIPTION:Examine how circular economy principles are reshaping solar's lifecycle. This session covers PV panel recycling\, battery repurposing\, and ESG-driven strategies that minimize waste\, recover valuable materials\, and boost sustainability. Learn how innovation and regulation are creating new business models while reducing the industry's environmental footprint.
SEQUENCE:1776630466
URL:https://www.intersolar.ae/conference-program/circular-economy-in-solar-recycling-pv-panels-battery-repurposing-esg
LOCATION:Intersolar Middle East Conference Program\, Dubai World Trade Centre Conference Area: Pavilion Hall\; Booth #: P.G40
UID:8fff298b-d979-45d3-9bab-a777567461b3
END:VEVENT
END:VCALENDAR
