BEGIN:VCALENDAR
PRODID:Solar Promotion International GmbH
CALSCALE:GREGORIAN
BEGIN:VEVENT
DTSTAMP:20260419T202611Z
DTSTART:20260903T124500
DTEND:20260903T133000
SUMMARY:Resilient Solar Infrastructure & O&M
TZID:Europe/Berlin
LAST-MODIFIED:20260417T072314Z
DESCRIPTION:Discover best practices for building and maintaining solar assets that withstand environmental\, operational\, and market challenges. This session explores robust design\, advanced monitoring\, predictive maintenance\, and adaptive strategies that enhance reliability\, extend asset life\, and ensure optimal performance in an evolving renewable energy landscape.
SEQUENCE:1776630371
URL:https://www.intersolar.ae/conference-program/resilient-solar-infrastructure-om
LOCATION:Intersolar Middle East Conference Program\, Dubai World Trade Centre Conference Area: Pavilion Hall\; Booth #: P.G40
UID:575ba6a3-4eb1-4c3b-b843-e401a96f11cb
END:VEVENT
END:VCALENDAR
