BEGIN:VCALENDAR
PRODID:Solar Promotion International GmbH
CALSCALE:GREGORIAN
BEGIN:VEVENT
DTSTAMP:20260419T202637Z
DTSTART:20260903T103000
DTEND:20260903T121500
SUMMARY:Decarbonizing Industry with Solar Thermal & PV
TZID:Europe/Berlin
LAST-MODIFIED:20260417T072313Z
DESCRIPTION:Explore how solar thermal and photovoltaic solutions are driving industrial decarbonization. This session highlights cutting-edge applications\, from process heat to on-site power generation\, showcasing successful projects\, cost benefits\, and integration strategies that reduce emissions\, boost efficiency\, and advance sustainability across energy-intensive sectors worldwide.
SEQUENCE:1776630397
URL:https://www.intersolar.ae/conference-program/decarbonizing-industry-with-solar-thermal-pv
LOCATION:Intersolar Middle East Conference Program\, Dubai World Trade Centre Conference Area: Pavilion Hall\; Booth #: P.G40
UID:8996d434-49d3-4cc4-923c-b16481e05bc7
END:VEVENT
END:VCALENDAR
