BEGIN:VCALENDAR
PRODID:Solar Promotion International GmbH
CALSCALE:GREGORIAN
BEGIN:VEVENT
DTSTAMP:20260419T202453Z
DTSTART:20260902T140500
DTEND:20260902T160500
SUMMARY:Grid Flexibility
TZID:Europe/Berlin
LAST-MODIFIED:20260417T072311Z
DESCRIPTION:Examine strategies and technologies enabling power systems to adapt to fluctuating solar generation. This session covers energy storage integration\, demand-side management\, and advanced grid controls that enhance reliability and stability. Gain insights into building resilient\, flexible grids capable of supporting higher renewable penetration and accelerating the clean energy transition.
SEQUENCE:1776630293
URL:https://www.intersolar.ae/conference-program/grid-flexibility
LOCATION:Intersolar Middle East Conference Program\, Dubai World Trade Centre Conference Area: Pavilion Hall\; Booth #: P.G40
UID:202b562e-616e-4f8c-a934-8ed95ed5b18a
END:VEVENT
END:VCALENDAR
