BEGIN:VCALENDAR
PRODID:Solar Promotion International GmbH
CALSCALE:GREGORIAN
BEGIN:VEVENT
DTSTAMP:20260419T202424Z
DTSTART:20260902T131500
DTEND:20260902T150000
SUMMARY:Digitalization & Smart Grids: AI\, IoT & Blockchain in Solar Asset Management
TZID:Europe/Berlin
LAST-MODIFIED:20260417T072307Z
DESCRIPTION:Discover how advanced digital technologies are transforming solar operations. This session explores AI-driven analytics\, IoT-enabled monitoring\, and blockchain-based transparency to optimize performance\, streamline maintenance\, and enhance profitability. Learn how smart grids and data intelligence are shaping the next generation of efficient\, resilient solar energy systems.
SEQUENCE:1776630264
URL:https://www.intersolar.ae/conference-program/digitalization-smart-grids-ai-iot-blockchain-in-solar-asset-management
LOCATION:Intersolar Middle East Conference Program\, Dubai World Trade Centre Conference Area: Pavilion Hall\; Booth #: P.G40
UID:8bfc56af-70c2-4acd-86ea-d6671e195513
END:VEVENT
END:VCALENDAR
