BEGIN:VCALENDAR
PRODID:Solar Promotion International GmbH
CALSCALE:GREGORIAN
BEGIN:VEVENT
DTSTAMP:20260419T202453Z
DTSTART:20260902T111500
DTEND:20260902T124500
SUMMARY:Advanced PV Technologies and Manufacturing
TZID:Europe/Berlin
LAST-MODIFIED:20260417T072305Z
DESCRIPTION:Explore the latest advancements revolutionizing photovoltaic production. This session examines high-efficiency cell designs\, next-generation materials\, and automated manufacturing innovations that reduce costs and scale deployment. Gain insights into how technological progress is enhancing reliability\, sustainability\, and competitiveness in the rapidly evolving global solar energy market.
SEQUENCE:1776630293
URL:https://www.intersolar.ae/conference-program/advanced-pv-technologies-and-manufacturing
LOCATION:Intersolar Middle East Conference Program\, Dubai World Trade Centre Conference Area: Pavilion Hall\; Booth #: P.G40
UID:472b2e1d-19f5-4d10-aafe-f586fe084b90
END:VEVENT
END:VCALENDAR
