BEGIN:VCALENDAR
PRODID:Solar Promotion International GmbH
CALSCALE:GREGORIAN
BEGIN:VEVENT
DTSTAMP:20260419T202611Z
DTSTART:20260902T103000
DTEND:20260902T105000
SUMMARY:Keynote Address: The Next Frontier: Innovation in PV
TZID:Europe/Berlin
LAST-MODIFIED:20260417T072302Z
DESCRIPTION:Discover groundbreaking advances shaping the future of photovoltaic technology. This keynote explores cutting-edge materials\, manufacturing breakthroughs\, and integration solutions driving higher efficiency and lower costs\, revealing how innovation in PV is unlocking new markets\, enhancing sustainability\, and redefining the possibilities for global solar energy adoption.
SEQUENCE:1776630371
URL:https://www.intersolar.ae/conference-program/keynote-address-the-next-frontier-innovation-in-pv
LOCATION:Intersolar Middle East Conference Program\, Dubai World Trade Centre Conference Area: Pavilion Hall\; Booth #: P.G40
UID:813e8e84-302c-4767-9ac0-9f334e957cef
END:VEVENT
END:VCALENDAR
