BEGIN:VCALENDAR
PRODID:Solar Promotion International GmbH
CALSCALE:GREGORIAN
BEGIN:VEVENT
DTSTAMP:20260419T202534Z
DTSTART:20260901T164500
DTEND:20260901T180000
SUMMARY:Case Studies: Solar Mega Projects in MENA
TZID:Europe/Berlin
LAST-MODIFIED:20260417T072300Z
DESCRIPTION:Gain firsthand insights from landmark solar developments transforming the Middle East and North Africa. This session showcases large-scale project successes\, innovative technologies\, and lessons learned\, highlighting how strategic partnerships and bold investments are advancing regional energy goals and setting new benchmarks for global renewable deployment.
SEQUENCE:1776630334
URL:https://www.intersolar.ae/conference-program/case-studies-solar-mega-projects-in-mena
LOCATION:Intersolar Middle East Conference Program\, Dubai World Trade Centre Conference Area: Pavilion Hall\; Booth #: P.G40
UID:ca9a1028-cb47-453f-89cb-13a4d883ddc7
END:VEVENT
END:VCALENDAR
