BEGIN:VCALENDAR
PRODID:Solar Promotion International GmbH
CALSCALE:GREGORIAN
BEGIN:VEVENT
DTSTAMP:20260419T202534Z
DTSTART:20260901T153000
DTEND:20260901T163000
SUMMARY:Finance & Investment: Unlocking Capital for Solar
TZID:Europe/Berlin
LAST-MODIFIED:20260417T072257Z
DESCRIPTION:Explore innovative financing models and investment strategies driving solar and hybrid project development. This session covers risk mitigation\, emerging funding mechanisms\, and investor perspectives\, offering practical insights on mobilizing capital to accelerate deployment\, expand market reach\, and deliver sustainable returns across diverse solar energy ventures.
SEQUENCE:1776630334
URL:https://www.intersolar.ae/conference-program/finance-investment-unlocking-capital-for-solar
LOCATION:Intersolar Middle East Conference Program\, Dubai World Trade Centre Conference Area: Pavilion Hall\; Booth #: P.G40
UID:8f36276c-6dc3-4c63-b59f-2091aa8b026c
END:VEVENT
END:VCALENDAR
