BEGIN:VCALENDAR
PRODID:Solar Promotion International GmbH
CALSCALE:GREGORIAN
BEGIN:VEVENT
DTSTAMP:20260419T202638Z
DTSTART:20260901T141500
DTEND:20260901T153000
SUMMARY:Policy & Regulation: Creating a Conducive Environment for Solar Investment
TZID:Europe/Berlin
LAST-MODIFIED:20260417T072255Z
DESCRIPTION:Examine how forward-thinking policies\, streamlined regulations\, and supportive frameworks can unlock solar energy's full potential. This session highlights best practices\, case studies\, and collaborative approaches that attract investment\, reduce risk\, and accelerate solar deployment\, fostering sustainable growth in both established and emerging markets worldwide.
SEQUENCE:1776630398
URL:https://www.intersolar.ae/conference-program/policy-regulation-creating-a-conducive-environment-for-solar-investment
LOCATION:Intersolar Middle East Conference Program\, Dubai World Trade Centre Conference Area: Pavilion Hall\; Booth #: P.G40
UID:55263e4a-0a56-4c3a-9347-aea833c60e40
END:VEVENT
END:VCALENDAR
