BEGIN:VCALENDAR
PRODID:Solar Promotion International GmbH
CALSCALE:GREGORIAN
BEGIN:VEVENT
DTSTAMP:20260419T202833Z
DTSTART:20260901T130000
DTEND:20260901T140000
SUMMARY:Executive Panel: Solar Market Outlook 2026-2030: Middle East\, North Africa & Beyond
TZID:Europe/Berlin
LAST-MODIFIED:20260417T072253Z
DESCRIPTION:Industry leaders share strategic insights on solar market growth\, investment trends\, and policy developments across MENA and emerging markets. Explore opportunities\, challenges\, and innovations shaping the next five years\, and understand how regional dynamics influence the global transition to renewable energy.
SEQUENCE:1776630513
URL:https://www.intersolar.ae/conference-program/executive-panel-solar-market-outlook-2026-2030-middle-east-north-africa-beyond
LOCATION:Intersolar Middle East Conference Program\, Dubai World Trade Centre Conference Area: Pavilion Hall\; Booth #: P.G40
UID:356b12e8-231d-4bb6-8be3-e059086b7b8e
END:VEVENT
END:VCALENDAR
