BEGIN:VCALENDAR
PRODID:Solar Promotion International GmbH
CALSCALE:GREGORIAN
BEGIN:VEVENT
DTSTAMP:20260419T204019Z
DTSTART:20260901T123000
DTEND:20260901T125500
SUMMARY:Opening Keynote: Solar Powering the Global Energy Transition
TZID:Europe/Berlin
LAST-MODIFIED:20260417T072251Z
DESCRIPTION:Discover how solar energy is driving a worldwide shift toward sustainable power. This keynote explores cutting-edge innovations\, global adoption trends\, and the policies accelerating change. Gain insights into how solar technology is transforming industries\, empowering communities\, and shaping a cleaner\, more resilient energy future.
SEQUENCE:1776631219
URL:https://www.intersolar.ae/conference-program/opening-keynote-solar-powering-the-global-energy-transition
LOCATION:Intersolar Middle East Conference Program\, Dubai World Trade Centre Conference Area: Pavilion Hall\; Booth #: P.G40
UID:3a37cc53-9adb-4c19-8d29-6812707e9481
END:VEVENT
END:VCALENDAR
